BEGIN:VCALENDAR
VERSION:2.0
PRODID:-//Tukios.com/
BEGIN:VEVENT
UID:ba1eb980-d670-4f0e-b8d7-50aff5c057b3@www.brownfuneralhomefulton.com
DTSTAMP:20260423T013959Z
DTSTART:20260425T140000Z
DTEND:20260425T150000Z
SUMMARY:Graveside Service
DESCRIPTION:
URL:https://www.brownfuneralhomefulton.com/obituaries/elaine-conners
LOCATION:St. Mary's Cemetery (Fulton) South Seventh Street  Fulton NY 
	13069
GEO:43.3211364;-76.404423
END:VEVENT
END:VCALENDAR